BEGIN:VCALENDAR
PRODID:-//eluceo/ical//2.0/EN
VERSION:2.0
CALSCALE:GREGORIAN
BEGIN:VEVENT
UID:f3bf2fc111830e185af36c7c52cdf818
DTSTAMP:20260422T113330Z
SUMMARY:feierabend | Open-Air
DESCRIPTION:Website: https://www.museumdermoderne.at/veranstaltungen/detail
 /feierabend-scurheim/\nSpeaker(s): Hallo zusammen\, am Donnerstag dem 16.
  04 schauen wir gemeinsam zum Scurheim im Rupertinum: Open-Air-DJ-Sets\, 
 lokale Acts und entspannte Abende im Innenhof des Museums.Wir treffen uns 
 dort um 18 Uhr zu einem gemütlichen Feierabendausklang. Wir freuen uns a
 uf euer kommen. Weitere Infos hier: https://www.museumdermoderne.at/vera
 nstaltungen/detail/feierabend-scurheim/
URL:https://salzburg.rotaract.at/en/agenda/show/152921
DTSTART;TZID=Europe/Zurich:20260416T180000
DTEND;TZID=Europe/Zurich:20260416T210000
LOCATION:Museum im Rupertinum
CATEGORIES:Rotaract
END:VEVENT
BEGIN:VTIMEZONE
TZID:Europe/Zurich
BEGIN:DAYLIGHT
DTSTART:20260416T180000
TZNAME:CEST
TZOFFSETTO:+0200
TZOFFSETFROM:+0200
END:DAYLIGHT
END:VTIMEZONE
END:VCALENDAR
