BEGIN:VCALENDAR
PRODID:-//eluceo/ical//2.0/EN
VERSION:2.0
CALSCALE:GREGORIAN
BEGIN:VEVENT
UID:a23c66843fc444fb1c7061e9365181a1
DTSTAMP:20260422T095805Z
SUMMARY:End Polio Lauf - District 1920
DESCRIPTION:
URL:https://1920.rotaract.at/en/agenda/show/151013
DTSTART;TZID=Europe/Zurich:20260517T083000
DTEND;TZID=Europe/Zurich:20260517T083000
LOCATION:Salzburg
CATEGORIES:Rotaract
END:VEVENT
BEGIN:VTIMEZONE
TZID:Europe/Zurich
BEGIN:DAYLIGHT
DTSTART:20260517T083000
TZNAME:CEST
TZOFFSETTO:+0200
TZOFFSETFROM:+0200
END:DAYLIGHT
END:VTIMEZONE
END:VCALENDAR
