BEGIN:VCALENDAR
PRODID:-//eluceo/ical//2.0/EN
VERSION:2.0
CALSCALE:GREGORIAN
BEGIN:VEVENT
UID:12c796248e198201a45a028a51df90e0
DTSTAMP:20260424T100812Z
SUMMARY:Distriktskonferenz 2024
DESCRIPTION:Speaker(s): FreitagFeierliche Ämterübergabe von DRR 2023_24 S
 tephan Petsche & DG 2023_24 Thomas Gredler auf DRR 2024_25 Maximilian Pich
 ler & DG 2024_25 Peter NeunerSamstagPitch Jahresprogramm 2024_25 inkl. Fee
 dback Gemütliche Wanderung mit kulinarischem Ausklang am Berg[Anm. eine P
 räsenz gibt es nur für den Samstag\; Freitag wird vom Rotary Dsitrikt ei
 ngetragen]
URL:https://1920.rotaract.at/en/agenda/show/131801
DTSTART;TZID=Europe/Zurich:20240628T130000
DTEND;TZID=Europe/Zurich:20240629T130000
LOCATION:Kitzbühel- Tirol
CATEGORIES:Rotaract
END:VEVENT
BEGIN:VTIMEZONE
TZID:Europe/Zurich
BEGIN:DAYLIGHT
DTSTART:20240628T130000
TZNAME:CEST
TZOFFSETTO:+0200
TZOFFSETFROM:+0200
END:DAYLIGHT
END:VTIMEZONE
END:VCALENDAR
